BEGIN:VCALENDAR
VERSION:2.0
PRODID:-//A Year and a Day Mystical Shoppe - ECPv6.1.3//NONSGML v1.0//EN
CALSCALE:GREGORIAN
METHOD:PUBLISH
X-WR-CALNAME:A Year and a Day Mystical Shoppe
X-ORIGINAL-URL:https://ayearandadaymysticalshoppe.com
X-WR-CALDESC:Events for A Year and a Day Mystical Shoppe
REFRESH-INTERVAL;VALUE=DURATION:PT1H
X-Robots-Tag:noindex
X-PUBLISHED-TTL:PT1H
BEGIN:VTIMEZONE
TZID:America/New_York
BEGIN:DAYLIGHT
TZOFFSETFROM:-0500
TZOFFSETTO:-0400
TZNAME:EDT
DTSTART:20260308T070000
END:DAYLIGHT
BEGIN:STANDARD
TZOFFSETFROM:-0400
TZOFFSETTO:-0500
TZNAME:EST
DTSTART:20261101T060000
END:STANDARD
END:VTIMEZONE
BEGIN:VEVENT
DTSTART;TZID=America/New_York:20260419T143000
DTEND;TZID=America/New_York:20260419T160000
DTSTAMP:20260424T170604
CREATED:20260113T175913Z
LAST-MODIFIED:20260318T200854Z
UID:10004340-1776609000-1776614400@ayearandadaymysticalshoppe.com
SUMMARY:Mediumship/Psychic Development Workshop
DESCRIPTION:This class is part of a mentorship series which will introduce you to the concept of mediumship as an encounter with and interpretation of spirit energy. Learn how to develop your awareness and gifts\, work with your own energy and the energy that surrounds you\, (embodied or not). We’ll explore the levels of spirit energy\, other dimensions\, including the astral plane and focus on ways we can encounter spirit responsibly\, foster our relationship with spirit and our team of guides in the spirit realm. \nCherise provides continuing mentorship in on-going classes\, as a course\, to help you understand and use your gifts and reach your spiritual goals.  Classes are in-person with option for online. \n$75.00 per person for first class; $65.00 per person for subsequent classes | Pre-registration is required. \nCall us at 848-217-2371 to register.
URL:https://ayearandadaymysticalshoppe.com/event/mediumship-psychic-development-workshop/2026-04-19/
LOCATION:A Year and a Day Mystical Shoppe\, 413 Bond St\, Asbury Park\, NJ\, 07712\, United States
CATEGORIES:Classes,Workshops
ATTACH;FMTTYPE=image/png:https://ayearandadaymysticalshoppe.com/wp-content/uploads/2021/12/mediumship-eventcard2022v2.png
END:VEVENT
END:VCALENDAR