BEGIN:VCALENDAR
VERSION:2.0
PRODID:-//A Year and a Day Mystical Shoppe - ECPv6.1.3//NONSGML v1.0//EN
CALSCALE:GREGORIAN
METHOD:PUBLISH
X-ORIGINAL-URL:https://ayearandadaymysticalshoppe.com
X-WR-CALDESC:Events for A Year and a Day Mystical Shoppe
REFRESH-INTERVAL;VALUE=DURATION:PT1H
X-Robots-Tag:noindex
X-PUBLISHED-TTL:PT1H
BEGIN:VTIMEZONE
TZID:America/New_York
BEGIN:DAYLIGHT
TZOFFSETFROM:-0500
TZOFFSETTO:-0400
TZNAME:EDT
DTSTART:20260308T070000
END:DAYLIGHT
BEGIN:STANDARD
TZOFFSETFROM:-0400
TZOFFSETTO:-0500
TZNAME:EST
DTSTART:20261101T060000
END:STANDARD
END:VTIMEZONE
BEGIN:VEVENT
DTSTART;TZID=America/New_York:20260412T133000
DTEND;TZID=America/New_York:20260412T150000
DTSTAMP:20260424T170346
CREATED:20260113T172831Z
LAST-MODIFIED:20260318T205216Z
UID:10004368-1776000600-1776006000@ayearandadaymysticalshoppe.com
SUMMARY:FREE Drumming Circle
DESCRIPTION:Circle to be led by Shaman\, Lauren.  Experience the uplifting energy vibrations of this Native American drumming.  You may bring an instrument (drum\, rattle\, etc.)\, or just enjoy the experience.  We have some additional instruments you may borrow and join in! \nOpen to all ages! \nNo experience needed! \nSinging and Dancing encouraged!
URL:https://ayearandadaymysticalshoppe.com/event/free-drumming-circle/2026-04-12/
LOCATION:A Year and a Day Mystical Shoppe\, 413 Bond St\, Asbury Park\, NJ\, 07712\, United States
CATEGORIES:Announcements,Meditations,Workshops
ATTACH;FMTTYPE=image/png:https://ayearandadaymysticalshoppe.com/wp-content/uploads/2023/03/drumcircle-eventcard.png
END:VEVENT
BEGIN:VEVENT
DTSTART;TZID=America/New_York:20260412T183000
DTEND;TZID=America/New_York:20260412T203000
DTSTAMP:20260424T170346
CREATED:20260113T172038Z
LAST-MODIFIED:20260318T205503Z
UID:10004373-1776018600-1776025800@ayearandadaymysticalshoppe.com
SUMMARY:Dancing with Dragons
DESCRIPTION:Dragons are ancient celestial beings that are here to help guide us\, protect us and work with us as we go through life. Lauren creates a sacred space for you to be able to connect with dragons and have them be more present on your spiritual journey. This event will include a guided meditation as well as an opportunity to power dance to celebrate our new connection to these magickal companions. \n$30.00 each per person. | Pre-registration is required. \nCall us at 848-217-2371 to register \n 
URL:https://ayearandadaymysticalshoppe.com/event/dancing-with-dragons/2026-04-12/
LOCATION:A Year and a Day Mystical Shoppe\, 413 Bond St\, Asbury Park\, NJ\, 07712\, United States
CATEGORIES:Meditations,Workshops
ATTACH;FMTTYPE=image/png:https://ayearandadaymysticalshoppe.com/wp-content/uploads/2022/06/dancingdragons-eventcard2025.png
END:VEVENT
END:VCALENDAR