BEGIN:VCALENDAR
VERSION:2.0
PRODID:-//A Year and a Day Mystical Shoppe - ECPv6.1.3//NONSGML v1.0//EN
CALSCALE:GREGORIAN
METHOD:PUBLISH
X-ORIGINAL-URL:https://ayearandadaymysticalshoppe.com
X-WR-CALDESC:Events for A Year and a Day Mystical Shoppe
REFRESH-INTERVAL;VALUE=DURATION:PT1H
X-Robots-Tag:noindex
X-PUBLISHED-TTL:PT1H
BEGIN:VTIMEZONE
TZID:America/New_York
BEGIN:DAYLIGHT
TZOFFSETFROM:-0500
TZOFFSETTO:-0400
TZNAME:EDT
DTSTART:20260308T070000
END:DAYLIGHT
BEGIN:STANDARD
TZOFFSETFROM:-0400
TZOFFSETTO:-0500
TZNAME:EST
DTSTART:20261101T060000
END:STANDARD
END:VTIMEZONE
BEGIN:VEVENT
DTSTART;TZID=America/New_York:20260329T130000
DTEND;TZID=America/New_York:20260329T170000
DTSTAMP:20260424T165727
CREATED:20250323T181925Z
LAST-MODIFIED:20260318T204618Z
UID:10004365-1774789200-1774803600@ayearandadaymysticalshoppe.com
SUMMARY:Stone Readings
DESCRIPTION:The art of Ancient Stone Readings can show you how your life has been through each phase and where you are heading.  We can use the stones to give insight for questions and situations you would like guidance for.  Stones and Crystals are amazingly accurate! \nReadings are available for individuals and couples. \nLife Path Readings are $45 per person (Individuals only); In-Depth Readings are $85 (up to 30 minutes) for individuals or couples. \nAppointmens and walk-ins; appointment recommended for couple and longer sessions. \nCall us at 848-217-2371 to register
URL:https://ayearandadaymysticalshoppe.com/event/stone-path-readings/2026-03-29/
LOCATION:A Year and a Day Mystical Shoppe\, 413 Bond St\, Asbury Park\, NJ\, 07712\, United States
CATEGORIES:Readings
ATTACH;FMTTYPE=image/png:https://ayearandadaymysticalshoppe.com/wp-content/uploads/2025/03/STONE-READINGS-EVENT-Individuals-Couples-Businesses.png
END:VEVENT
END:VCALENDAR