BEGIN:VCALENDAR
VERSION:2.0
PRODID:-//A Year and a Day Mystical Shoppe - ECPv6.1.3//NONSGML v1.0//EN
CALSCALE:GREGORIAN
METHOD:PUBLISH
X-ORIGINAL-URL:https://ayearandadaymysticalshoppe.com
X-WR-CALDESC:Events for A Year and a Day Mystical Shoppe
REFRESH-INTERVAL;VALUE=DURATION:PT1H
X-Robots-Tag:noindex
X-PUBLISHED-TTL:PT1H
BEGIN:VTIMEZONE
TZID:America/New_York
BEGIN:DAYLIGHT
TZOFFSETFROM:-0500
TZOFFSETTO:-0400
TZNAME:EDT
DTSTART:20260308T070000
END:DAYLIGHT
BEGIN:STANDARD
TZOFFSETFROM:-0400
TZOFFSETTO:-0500
TZNAME:EST
DTSTART:20261101T060000
END:STANDARD
END:VTIMEZONE
BEGIN:VEVENT
DTSTART;TZID=America/New_York:20260303T173000
DTEND;TZID=America/New_York:20260303T190000
DTSTAMP:20260424T170324
CREATED:20240410T202352Z
LAST-MODIFIED:20260112T224841Z
UID:10003972-1772559000-1772564400@ayearandadaymysticalshoppe.com
SUMMARY:Tea and Tarot Group Meditation
DESCRIPTION:Join our weekly Tea and Tarot Tuesday group guided meditations and enjoy connecting with a different plant (tea) each week.  We’ll go on a journey of discovery together each week!  You will receive a handout explaining benefits (both physical and spiritual) of the plant as well as its possible side effects We will then mediitate through shamanic drumming journey and connect with the plant to meet its spirit. Afterward\, receive a message from Tarot just for you! \nCall ahead for what plant will be provided and advise us of any allergies (alternatives may be provided). For all levels: Beginners to Advanced.  Bring along a meditation mat\, pillow\, etc. to maximize your experience! \nPre-registration is required. | $15 per person.\nCall us at 848-217-2371 or leave us a message to secure your spot!
URL:https://ayearandadaymysticalshoppe.com/event/tea-and-tarot-group-meditation/2026-03-03/
LOCATION:A Year and a Day Mystical Shoppe\, 413 Bond St\, Asbury Park\, NJ\, 07712\, United States
CATEGORIES:Classes,Meditations,Readings,Workshops
ATTACH;FMTTYPE=image/png:https://ayearandadaymysticalshoppe.com/wp-content/uploads/2024/04/Tea-and-Tarot-Tuesdays.png
END:VEVENT
BEGIN:VEVENT
DTSTART;TZID=America/New_York:20260310T173000
DTEND;TZID=America/New_York:20260310T190000
DTSTAMP:20260424T170324
CREATED:20240410T202352Z
LAST-MODIFIED:20260112T224841Z
UID:10003973-1773163800-1773169200@ayearandadaymysticalshoppe.com
SUMMARY:Tea and Tarot Group Meditation
DESCRIPTION:Join our weekly Tea and Tarot Tuesday group guided meditations and enjoy connecting with a different plant (tea) each week.  We’ll go on a journey of discovery together each week!  You will receive a handout explaining benefits (both physical and spiritual) of the plant as well as its possible side effects We will then mediitate through shamanic drumming journey and connect with the plant to meet its spirit. Afterward\, receive a message from Tarot just for you! \nCall ahead for what plant will be provided and advise us of any allergies (alternatives may be provided). For all levels: Beginners to Advanced.  Bring along a meditation mat\, pillow\, etc. to maximize your experience! \nPre-registration is required. | $15 per person.\nCall us at 848-217-2371 or leave us a message to secure your spot!
URL:https://ayearandadaymysticalshoppe.com/event/tea-and-tarot-group-meditation/2026-03-10/
LOCATION:A Year and a Day Mystical Shoppe\, 413 Bond St\, Asbury Park\, NJ\, 07712\, United States
CATEGORIES:Classes,Meditations,Readings,Workshops
ATTACH;FMTTYPE=image/png:https://ayearandadaymysticalshoppe.com/wp-content/uploads/2024/04/Tea-and-Tarot-Tuesdays.png
END:VEVENT
BEGIN:VEVENT
DTSTART;TZID=America/New_York:20260317T173000
DTEND;TZID=America/New_York:20260317T190000
DTSTAMP:20260424T170324
CREATED:20240410T202352Z
LAST-MODIFIED:20260112T224841Z
UID:10003974-1773768600-1773774000@ayearandadaymysticalshoppe.com
SUMMARY:Tea and Tarot Group Meditation
DESCRIPTION:Join our weekly Tea and Tarot Tuesday group guided meditations and enjoy connecting with a different plant (tea) each week.  We’ll go on a journey of discovery together each week!  You will receive a handout explaining benefits (both physical and spiritual) of the plant as well as its possible side effects We will then mediitate through shamanic drumming journey and connect with the plant to meet its spirit. Afterward\, receive a message from Tarot just for you! \nCall ahead for what plant will be provided and advise us of any allergies (alternatives may be provided). For all levels: Beginners to Advanced.  Bring along a meditation mat\, pillow\, etc. to maximize your experience! \nPre-registration is required. | $15 per person.\nCall us at 848-217-2371 or leave us a message to secure your spot!
URL:https://ayearandadaymysticalshoppe.com/event/tea-and-tarot-group-meditation/2026-03-17/
LOCATION:A Year and a Day Mystical Shoppe\, 413 Bond St\, Asbury Park\, NJ\, 07712\, United States
CATEGORIES:Classes,Meditations,Readings,Workshops
ATTACH;FMTTYPE=image/png:https://ayearandadaymysticalshoppe.com/wp-content/uploads/2024/04/Tea-and-Tarot-Tuesdays.png
END:VEVENT
BEGIN:VEVENT
DTSTART;TZID=America/New_York:20260328T123000
DTEND;TZID=America/New_York:20260328T163000
DTSTAMP:20260424T170324
CREATED:20260112T223622Z
LAST-MODIFIED:20260318T201129Z
UID:10004341-1774701000-1774715400@ayearandadaymysticalshoppe.com
SUMMARY:Akashic Records I Mediumship I Ancient Stone Readings
DESCRIPTION:The Akashic Records hold information about your soul’s past\, present and future. During an Akashic Records reading\, Cherise taps into your records\, offering you channeled messages from your guides\, masters\, teachers and loved ones. These messages are intended to help you raise your awareness of your spiritual path so you can live in alignment with your highest and best good. \nAncient stone readings can show you how your life has been thru each phase and where you are heading or answer questions you may have. For individuals or couples. \nDo you have a loved one who has passed that you would like to communicate with? Cherise can mediate your connection and help you convey what you would like to say and pass on to you any messages from the other side. \nAkashic or Medium Session is 45-60 minutes.\n$145.00 per person\nPre-Registration required. \nStone Readings Session is 30 minutes\nIndividual $55\nCouple $85 \nPre-Registration required.
URL:https://ayearandadaymysticalshoppe.com/event/akashic-records-i-mediumship-i-ancient-stone-readings-2/2026-03-28/
LOCATION:A Year and a Day Mystical Shoppe\, 413 Bond St\, Asbury Park\, NJ\, 07712\, United States
CATEGORIES:Readings
ATTACH;FMTTYPE=image/png:https://ayearandadaymysticalshoppe.com/wp-content/uploads/2025/04/Rev-Akashic-Records-Medium-Ancient-Stone-Readings.png
END:VEVENT
BEGIN:VEVENT
DTSTART;TZID=America/New_York:20260329T130000
DTEND;TZID=America/New_York:20260329T170000
DTSTAMP:20260424T170324
CREATED:20250323T181925Z
LAST-MODIFIED:20260318T204618Z
UID:10004365-1774789200-1774803600@ayearandadaymysticalshoppe.com
SUMMARY:Stone Readings
DESCRIPTION:The art of Ancient Stone Readings can show you how your life has been through each phase and where you are heading.  We can use the stones to give insight for questions and situations you would like guidance for.  Stones and Crystals are amazingly accurate! \nReadings are available for individuals and couples. \nLife Path Readings are $45 per person (Individuals only); In-Depth Readings are $85 (up to 30 minutes) for individuals or couples. \nAppointmens and walk-ins; appointment recommended for couple and longer sessions. \nCall us at 848-217-2371 to register
URL:https://ayearandadaymysticalshoppe.com/event/stone-path-readings/2026-03-29/
LOCATION:A Year and a Day Mystical Shoppe\, 413 Bond St\, Asbury Park\, NJ\, 07712\, United States
CATEGORIES:Readings
ATTACH;FMTTYPE=image/png:https://ayearandadaymysticalshoppe.com/wp-content/uploads/2025/03/STONE-READINGS-EVENT-Individuals-Couples-Businesses.png
END:VEVENT
END:VCALENDAR