BEGIN:VCALENDAR
VERSION:2.0
PRODID:-//A Year and a Day Mystical Shoppe - ECPv6.1.3//NONSGML v1.0//EN
CALSCALE:GREGORIAN
METHOD:PUBLISH
X-ORIGINAL-URL:https://ayearandadaymysticalshoppe.com
X-WR-CALDESC:Events for A Year and a Day Mystical Shoppe
REFRESH-INTERVAL;VALUE=DURATION:PT1H
X-Robots-Tag:noindex
X-PUBLISHED-TTL:PT1H
BEGIN:VTIMEZONE
TZID:America/New_York
BEGIN:DAYLIGHT
TZOFFSETFROM:-0500
TZOFFSETTO:-0400
TZNAME:EDT
DTSTART:20260308T070000
END:DAYLIGHT
BEGIN:STANDARD
TZOFFSETFROM:-0400
TZOFFSETTO:-0500
TZNAME:EST
DTSTART:20261101T060000
END:STANDARD
END:VTIMEZONE
BEGIN:VEVENT
DTSTART;TZID=America/New_York:20260610T173000
DTEND;TZID=America/New_York:20260610T183000
DTSTAMP:20260424T205706
CREATED:20260318T201714Z
LAST-MODIFIED:20260318T201900Z
UID:10004350-1781112600-1781116200@ayearandadaymysticalshoppe.com
SUMMARY:Good Medicine Philosophy Class
DESCRIPTION:INTERESTED IN MAGIC? \nNot the slight-of-hand kind\, but real mental magic (no paraphernalia needed)?  Teachings are from a Cherokee Medicine man and Druid Master born in 1916.  He knew this knowledge was getting lost\, so he wrote it down in the form of lessons which he freely taught.  Our classes are donation driven as we continue to teach these lessons. \nOur teacher\, Misty Eve was one of Grandfather Eli’s original students.  She had a vision.  She saw the Earth in a sacred manner from far away and saw that all lifeforms upon Mother Earth were cells of her body and saw that she was with child… a new consciousness was forming!  Misty Eve saw that she was part of this New Consciousness and knew it was time to find the others.  Are you one of them? \nWe know we are the children of the earth and Sky.  The Earth is our Mother and the Great Spirit is our Father.  We are growing into Their likeness to one day become creators in our own right.  We already create our tomorrows with the thoughts we think today.  Now we can learn to create more of what we Want and less of what we Don’t Want. \nMaria Martin and Lauren Porter are certified teachers and belong to The Good Medicine Society.   \nNext class meets weekly for 8 weeks\, both online and in-person Wednesdays at 5:30pm starting April 22nd. \nTo reserve a spot: Call Maria at 848-217-2371 \n 
URL:https://ayearandadaymysticalshoppe.com/event/good-medicine-philisophy-class-2-2-2/2026-06-10/
LOCATION:A Year and a Day Mystical Shoppe\, 413 Bond St\, Asbury Park\, NJ\, 07712\, United States
CATEGORIES:Classes
ATTACH;FMTTYPE=image/png:https://ayearandadaymysticalshoppe.com/wp-content/uploads/2025/07/GMS-Philosophy-Classes.png
END:VEVENT
END:VCALENDAR