BEGIN:VCALENDAR
VERSION:2.0
PRODID:-//A Year and a Day Mystical Shoppe - ECPv6.1.3//NONSGML v1.0//EN
CALSCALE:GREGORIAN
METHOD:PUBLISH
X-ORIGINAL-URL:https://ayearandadaymysticalshoppe.com
X-WR-CALDESC:Events for A Year and a Day Mystical Shoppe
REFRESH-INTERVAL;VALUE=DURATION:PT1H
X-Robots-Tag:noindex
X-PUBLISHED-TTL:PT1H
BEGIN:VTIMEZONE
TZID:America/New_York
BEGIN:DAYLIGHT
TZOFFSETFROM:-0500
TZOFFSETTO:-0400
TZNAME:EDT
DTSTART:20260308T070000
END:DAYLIGHT
BEGIN:STANDARD
TZOFFSETFROM:-0400
TZOFFSETTO:-0500
TZNAME:EST
DTSTART:20261101T060000
END:STANDARD
END:VTIMEZONE
BEGIN:VEVENT
DTSTART;TZID=America/New_York:20260318T190000
DTEND;TZID=America/New_York:20260318T210000
DTSTAMP:20260424T191740
CREATED:20260112T193914Z
LAST-MODIFIED:20260116T154624Z
UID:10004315-1773860400-1773867600@ayearandadaymysticalshoppe.com
SUMMARY:Shamanism Classes - Winter Group 2026
DESCRIPTION:Join A Year and a Day Mystical Shoppe’s Lauren Porter on a series of monthly classes to learn the introduction of shamanism. Learn how to properly journey to meet your medicines and allies\, clear and create sacred space\, put together a mesa & medicine bag\, work with the plant\, animal and stone kingdoms\, embrace your shadow self\, dreamwork and much more. If you are interested\, call the store to secure your spot at 848-217-2371. \nClasses meet the third Wednesday of each month.
URL:https://ayearandadaymysticalshoppe.com/event/shamanism-classes-winter-group-2026/2026-03-18/
LOCATION:A Year and a Day Mystical Shoppe\, 413 Bond St\, Asbury Park\, NJ\, 07712\, United States
CATEGORIES:Classes
ATTACH;FMTTYPE=image/png:https://ayearandadaymysticalshoppe.com/wp-content/uploads/2019/10/shamanclass-eventcard-winter.png
END:VEVENT
END:VCALENDAR