BEGIN:VCALENDAR
VERSION:2.0
PRODID:-//A Year and a Day Mystical Shoppe - ECPv6.1.3//NONSGML v1.0//EN
CALSCALE:GREGORIAN
METHOD:PUBLISH
X-ORIGINAL-URL:https://ayearandadaymysticalshoppe.com
X-WR-CALDESC:Events for A Year and a Day Mystical Shoppe
REFRESH-INTERVAL;VALUE=DURATION:PT1H
X-Robots-Tag:noindex
X-PUBLISHED-TTL:PT1H
BEGIN:VTIMEZONE
TZID:America/New_York
BEGIN:DAYLIGHT
TZOFFSETFROM:-0500
TZOFFSETTO:-0400
TZNAME:EDT
DTSTART:20260308T070000
END:DAYLIGHT
BEGIN:STANDARD
TZOFFSETFROM:-0400
TZOFFSETTO:-0500
TZNAME:EST
DTSTART:20261101T060000
END:STANDARD
END:VTIMEZONE
BEGIN:VEVENT
DTSTART;TZID=America/New_York:20260219T110000
DTEND;TZID=America/New_York:20260219T153000
DTSTAMP:20260424T211350
CREATED:20260113T172833Z
LAST-MODIFIED:20260318T202326Z
UID:10004234-1771498800-1771515000@ayearandadaymysticalshoppe.com
SUMMARY:Reiki Level I Workshop and Certification
DESCRIPTION:Have you been drawn to energy healing and want to learn what Reiki is about? Get started on your Energy Healing journey with Reiki Master Maria Martin. You will learn how to nurture and heal the light within yourself and others. In this workshop\, she will teach you the basics of the art of healing with Reiki including: What is Reiki? How does it work? The Chakra System\, Self -Grounding and more! You will receive your Reiki Level I attunement! \n$195.00 per person; Pre-Registration is required. \nCall the store at 848-217-2371 to register.
URL:https://ayearandadaymysticalshoppe.com/event/reiki-level-i-workshop-and-certification-2020-03-19/2026-02-19/
LOCATION:A Year and a Day Mystical Shoppe\, 413 Bond St\, Asbury Park\, NJ\, 07712\, United States
CATEGORIES:Classes,Workshops
ATTACH;FMTTYPE=image/png:https://ayearandadaymysticalshoppe.com/wp-content/uploads/2019/10/reiki1-eventcard2022v2.png
END:VEVENT
END:VCALENDAR