BEGIN:VCALENDAR
VERSION:2.0
PRODID:-//A Year and a Day Mystical Shoppe - ECPv6.1.3//NONSGML v1.0//EN
CALSCALE:GREGORIAN
METHOD:PUBLISH
X-ORIGINAL-URL:https://ayearandadaymysticalshoppe.com
X-WR-CALDESC:Events for A Year and a Day Mystical Shoppe
REFRESH-INTERVAL;VALUE=DURATION:PT1H
X-Robots-Tag:noindex
X-PUBLISHED-TTL:PT1H
BEGIN:VTIMEZONE
TZID:America/New_York
BEGIN:DAYLIGHT
TZOFFSETFROM:-0500
TZOFFSETTO:-0400
TZNAME:EDT
DTSTART:20260308T070000
END:DAYLIGHT
BEGIN:STANDARD
TZOFFSETFROM:-0400
TZOFFSETTO:-0500
TZNAME:EST
DTSTART:20261101T060000
END:STANDARD
END:VTIMEZONE
BEGIN:VEVENT
DTSTART;TZID=America/New_York:20260707T183000
DTEND;TZID=America/New_York:20260707T200000
DTSTAMP:20260424T205149
CREATED:20260318T215517Z
LAST-MODIFIED:20260318T215817Z
UID:10004647-1783449000-1783454400@ayearandadaymysticalshoppe.com
SUMMARY:Tea and Tarot Group Meditation
DESCRIPTION:Join our weekly Tea and Tarot Tuesday group guided meditations and enjoy connecting with a different plant (tea) each week.  We’ll go on a journey of discovery together each week!  You will receive a handout explaining benefits (both physical and spiritual) of the plant as well as its possible side effects We will then mediitate through shamanic drumming journey and connect with the plant to meet its spirit. Afterward\, receive a message from Tarot just for you! \nCall ahead for what plant will be provided and advise us of any allergies (alternatives may be provided). For all levels: Beginners to Advanced.  Bring along a meditation mat\, pillow\, etc. to maximize your experience! \nPre-registration is required. | $15 per person.\nCall us at 848-217-2371 or leave us a message to secure your spot!
URL:https://ayearandadaymysticalshoppe.com/event/tea-and-tarot-group-meditation-2/2026-07-07/
LOCATION:A Year and a Day Mystical Shoppe\, 413 Bond St\, Asbury Park\, NJ\, 07712\, United States
CATEGORIES:Classes,Meditations,Readings,Workshops
ATTACH;FMTTYPE=image/png:https://ayearandadaymysticalshoppe.com/wp-content/uploads/2024/04/Tea-and-Tarot-Tuesdays.png
END:VEVENT
BEGIN:VEVENT
DTSTART;TZID=America/New_York:20260714T183000
DTEND;TZID=America/New_York:20260714T200000
DTSTAMP:20260424T205149
CREATED:20260318T215517Z
LAST-MODIFIED:20260318T215817Z
UID:10004648-1784053800-1784059200@ayearandadaymysticalshoppe.com
SUMMARY:Tea and Tarot Group Meditation
DESCRIPTION:Join our weekly Tea and Tarot Tuesday group guided meditations and enjoy connecting with a different plant (tea) each week.  We’ll go on a journey of discovery together each week!  You will receive a handout explaining benefits (both physical and spiritual) of the plant as well as its possible side effects We will then mediitate through shamanic drumming journey and connect with the plant to meet its spirit. Afterward\, receive a message from Tarot just for you! \nCall ahead for what plant will be provided and advise us of any allergies (alternatives may be provided). For all levels: Beginners to Advanced.  Bring along a meditation mat\, pillow\, etc. to maximize your experience! \nPre-registration is required. | $15 per person.\nCall us at 848-217-2371 or leave us a message to secure your spot!
URL:https://ayearandadaymysticalshoppe.com/event/tea-and-tarot-group-meditation-2/2026-07-14/
LOCATION:A Year and a Day Mystical Shoppe\, 413 Bond St\, Asbury Park\, NJ\, 07712\, United States
CATEGORIES:Classes,Meditations,Readings,Workshops
ATTACH;FMTTYPE=image/png:https://ayearandadaymysticalshoppe.com/wp-content/uploads/2024/04/Tea-and-Tarot-Tuesdays.png
END:VEVENT
BEGIN:VEVENT
DTSTART;TZID=America/New_York:20260715T190000
DTEND;TZID=America/New_York:20260715T210000
DTSTAMP:20260424T205149
CREATED:20260112T193914Z
LAST-MODIFIED:20260116T154624Z
UID:10004319-1784142000-1784149200@ayearandadaymysticalshoppe.com
SUMMARY:Shamanism Classes - Winter Group 2026
DESCRIPTION:Join A Year and a Day Mystical Shoppe’s Lauren Porter on a series of monthly classes to learn the introduction of shamanism. Learn how to properly journey to meet your medicines and allies\, clear and create sacred space\, put together a mesa & medicine bag\, work with the plant\, animal and stone kingdoms\, embrace your shadow self\, dreamwork and much more. If you are interested\, call the store to secure your spot at 848-217-2371. \nClasses meet the third Wednesday of each month.
URL:https://ayearandadaymysticalshoppe.com/event/shamanism-classes-winter-group-2026/2026-07-15/
LOCATION:A Year and a Day Mystical Shoppe\, 413 Bond St\, Asbury Park\, NJ\, 07712\, United States
CATEGORIES:Classes
ATTACH;FMTTYPE=image/png:https://ayearandadaymysticalshoppe.com/wp-content/uploads/2019/10/shamanclass-eventcard-winter.png
END:VEVENT
BEGIN:VEVENT
DTSTART;TZID=America/New_York:20260721T183000
DTEND;TZID=America/New_York:20260721T200000
DTSTAMP:20260424T205149
CREATED:20260318T215517Z
LAST-MODIFIED:20260318T215817Z
UID:10004649-1784658600-1784664000@ayearandadaymysticalshoppe.com
SUMMARY:Tea and Tarot Group Meditation
DESCRIPTION:Join our weekly Tea and Tarot Tuesday group guided meditations and enjoy connecting with a different plant (tea) each week.  We’ll go on a journey of discovery together each week!  You will receive a handout explaining benefits (both physical and spiritual) of the plant as well as its possible side effects We will then mediitate through shamanic drumming journey and connect with the plant to meet its spirit. Afterward\, receive a message from Tarot just for you! \nCall ahead for what plant will be provided and advise us of any allergies (alternatives may be provided). For all levels: Beginners to Advanced.  Bring along a meditation mat\, pillow\, etc. to maximize your experience! \nPre-registration is required. | $15 per person.\nCall us at 848-217-2371 or leave us a message to secure your spot!
URL:https://ayearandadaymysticalshoppe.com/event/tea-and-tarot-group-meditation-2/2026-07-21/
LOCATION:A Year and a Day Mystical Shoppe\, 413 Bond St\, Asbury Park\, NJ\, 07712\, United States
CATEGORIES:Classes,Meditations,Readings,Workshops
ATTACH;FMTTYPE=image/png:https://ayearandadaymysticalshoppe.com/wp-content/uploads/2024/04/Tea-and-Tarot-Tuesdays.png
END:VEVENT
BEGIN:VEVENT
DTSTART;TZID=America/New_York:20260728T183000
DTEND;TZID=America/New_York:20260728T200000
DTSTAMP:20260424T205149
CREATED:20260318T215517Z
LAST-MODIFIED:20260318T215817Z
UID:10004650-1785263400-1785268800@ayearandadaymysticalshoppe.com
SUMMARY:Tea and Tarot Group Meditation
DESCRIPTION:Join our weekly Tea and Tarot Tuesday group guided meditations and enjoy connecting with a different plant (tea) each week.  We’ll go on a journey of discovery together each week!  You will receive a handout explaining benefits (both physical and spiritual) of the plant as well as its possible side effects We will then mediitate through shamanic drumming journey and connect with the plant to meet its spirit. Afterward\, receive a message from Tarot just for you! \nCall ahead for what plant will be provided and advise us of any allergies (alternatives may be provided). For all levels: Beginners to Advanced.  Bring along a meditation mat\, pillow\, etc. to maximize your experience! \nPre-registration is required. | $15 per person.\nCall us at 848-217-2371 or leave us a message to secure your spot!
URL:https://ayearandadaymysticalshoppe.com/event/tea-and-tarot-group-meditation-2/2026-07-28/
LOCATION:A Year and a Day Mystical Shoppe\, 413 Bond St\, Asbury Park\, NJ\, 07712\, United States
CATEGORIES:Classes,Meditations,Readings,Workshops
ATTACH;FMTTYPE=image/png:https://ayearandadaymysticalshoppe.com/wp-content/uploads/2024/04/Tea-and-Tarot-Tuesdays.png
END:VEVENT
END:VCALENDAR