BEGIN:VCALENDAR
VERSION:2.0
PRODID:-//A Year and a Day Mystical Shoppe - ECPv6.1.3//NONSGML v1.0//EN
CALSCALE:GREGORIAN
METHOD:PUBLISH
X-WR-CALNAME:A Year and a Day Mystical Shoppe
X-ORIGINAL-URL:https://ayearandadaymysticalshoppe.com
X-WR-CALDESC:Events for A Year and a Day Mystical Shoppe
REFRESH-INTERVAL;VALUE=DURATION:PT1H
X-Robots-Tag:noindex
X-PUBLISHED-TTL:PT1H
BEGIN:VTIMEZONE
TZID:America/New_York
BEGIN:DAYLIGHT
TZOFFSETFROM:-0500
TZOFFSETTO:-0400
TZNAME:EDT
DTSTART:20250309T070000
END:DAYLIGHT
BEGIN:STANDARD
TZOFFSETFROM:-0400
TZOFFSETTO:-0500
TZNAME:EST
DTSTART:20251102T060000
END:STANDARD
END:VTIMEZONE
BEGIN:VEVENT
DTSTART;TZID=America/New_York:20250215T110000
DTEND;TZID=America/New_York:20250215T163000
DTSTAMP:20260421T003516
CREATED:20260113T172832Z
LAST-MODIFIED:20260318T195552Z
UID:10002991-1739617200-1739637000@ayearandadaymysticalshoppe.com
SUMMARY:Reiki Level II Workshop and Certification
DESCRIPTION:This workshop is the second step on your Energy Healing journey. Come join Reiki Master\, Maria Martin in a 4 1/2 – 5 hour workshop to learn and practice Reiki. As healers we have the deep desire to help\, heal and nurture the light within ourselves and others. In this level two workshop\, in addition to getting your second attunement you will learn the Art of healing with Reiki including: How to heal others\, the chakras meanings and placements\, Self-Grounding\, Hand positions for self-healing\, the healing of others and Reiki Symbols as well as their meanings. All classes include a guided meditation. You will also be given a crystal/stone pendulum. \nPre-requisite Reiki Level I \n$225.00 per person I Pre-Registration is required. \nCall at 848-217-2371 to register
URL:https://ayearandadaymysticalshoppe.com/event/reiki-level-ii-workshop-and-certification/2025-02-15/
LOCATION:A Year and a Day Mystical Shoppe\, 413 Bond St\, Asbury Park\, NJ\, 07712\, United States
CATEGORIES:Classes,Workshops
ATTACH;FMTTYPE=image/png:https://ayearandadaymysticalshoppe.com/wp-content/uploads/2019/10/reiki2-eventcard2022v2.png
END:VEVENT
END:VCALENDAR