BEGIN:VCALENDAR
VERSION:2.0
PRODID:-//A Year and a Day Mystical Shoppe - ECPv6.1.3//NONSGML v1.0//EN
CALSCALE:GREGORIAN
METHOD:PUBLISH
X-ORIGINAL-URL:https://ayearandadaymysticalshoppe.com
X-WR-CALDESC:Events for A Year and a Day Mystical Shoppe
REFRESH-INTERVAL;VALUE=DURATION:PT1H
X-Robots-Tag:noindex
X-PUBLISHED-TTL:PT1H
BEGIN:VTIMEZONE
TZID:America/New_York
BEGIN:DAYLIGHT
TZOFFSETFROM:-0500
TZOFFSETTO:-0400
TZNAME:EDT
DTSTART:20240310T070000
END:DAYLIGHT
BEGIN:STANDARD
TZOFFSETFROM:-0400
TZOFFSETTO:-0500
TZNAME:EST
DTSTART:20241103T060000
END:STANDARD
END:VTIMEZONE
BEGIN:VEVENT
DTSTART;TZID=America/New_York:20240820T173000
DTEND;TZID=America/New_York:20240820T190000
DTSTAMP:20260420T002757
CREATED:20240410T202352Z
LAST-MODIFIED:20260112T224841Z
UID:10003893-1724175000-1724180400@ayearandadaymysticalshoppe.com
SUMMARY:Tea and Tarot Group Meditation
DESCRIPTION:Join our weekly Tea and Tarot Tuesday group guided meditations and enjoy connecting with a different plant (tea) each week.  We’ll go on a journey of discovery together each week!  You will receive a handout explaining benefits (both physical and spiritual) of the plant as well as its possible side effects We will then mediitate through shamanic drumming journey and connect with the plant to meet its spirit. Afterward\, receive a message from Tarot just for you! \nCall ahead for what plant will be provided and advise us of any allergies (alternatives may be provided). For all levels: Beginners to Advanced.  Bring along a meditation mat\, pillow\, etc. to maximize your experience! \nPre-registration is required. | $15 per person.\nCall us at 848-217-2371 or leave us a message to secure your spot!
URL:https://ayearandadaymysticalshoppe.com/event/tea-and-tarot-group-meditation/2024-08-20/
LOCATION:A Year and a Day Mystical Shoppe\, 413 Bond St\, Asbury Park\, NJ\, 07712\, United States
CATEGORIES:Classes,Meditations,Readings,Workshops
ATTACH;FMTTYPE=image/png:https://ayearandadaymysticalshoppe.com/wp-content/uploads/2024/04/Tea-and-Tarot-Tuesdays.png
END:VEVENT
END:VCALENDAR